BEGIN:VCALENDAR
VERSION:2.0
PRODID:-//KF Centre For Excellence - ECPv6.15.19//NONSGML v1.0//EN
CALSCALE:GREGORIAN
METHOD:PUBLISH
X-ORIGINAL-URL:https://kfcentre.ca
X-WR-CALDESC:Events for KF Centre For Excellence
REFRESH-INTERVAL;VALUE=DURATION:PT1H
X-Robots-Tag:noindex
X-PUBLISHED-TTL:PT1H
BEGIN:VTIMEZONE
TZID:America/Vancouver
BEGIN:DAYLIGHT
TZOFFSETFROM:-0800
TZOFFSETTO:-0700
TZNAME:PDT
DTSTART:20250309T100000
END:DAYLIGHT
BEGIN:STANDARD
TZOFFSETFROM:-0700
TZOFFSETTO:-0800
TZNAME:PST
DTSTART:20251102T090000
END:STANDARD
BEGIN:DAYLIGHT
TZOFFSETFROM:-0800
TZOFFSETTO:-0700
TZNAME:PDT
DTSTART:20260308T100000
END:DAYLIGHT
BEGIN:STANDARD
TZOFFSETFROM:-0700
TZOFFSETTO:-0800
TZNAME:PST
DTSTART:20261101T090000
END:STANDARD
BEGIN:DAYLIGHT
TZOFFSETFROM:-0800
TZOFFSETTO:-0700
TZNAME:PDT
DTSTART:20270314T100000
END:DAYLIGHT
BEGIN:STANDARD
TZOFFSETFROM:-0700
TZOFFSETTO:-0800
TZNAME:PST
DTSTART:20271107T090000
END:STANDARD
END:VTIMEZONE
BEGIN:VEVENT
DTSTART;VALUE=DATE:20260617
DTEND;VALUE=DATE:20260621
DTSTAMP:20260421T093655
CREATED:20260407T210649Z
LAST-MODIFIED:20260407T213141Z
UID:2904-1781654400-1781999999@kfcentre.ca
SUMMARY:CAHS National Convention & Aviation Cultures Conference Coming to Kelowna in 2026
DESCRIPTION:We’re thrilled to share that the KF Centre for Excellence will host the Canadian Aviation Historical Society (CAHS) National Convention in partnership with the Aviation Cultures Mk.VIII Conference\, taking place June 17–20\, 2026\, both in Kelowna\, BC and online. \nThis will be the first-ever joint event between the long-standing CAHS Convention and the global\, storytelling-focused Aviation Cultures series—bringing together two respected platforms for aviation history\, dialogue\, and community. Whether attending in person or online\, participants can look forward to a rich mix of presentations\, conversations\, and perspectives. \nWhat to Expect\nAmong other themes\, this international conference will explore the shared history and differences between Canadian and Australian aviation—highlighting connections\, contrasts\, and unique stories from each country’s aviation legacy. The event will also feature signature CAHS Convention sessions and the broader creative and scholarly approach of Aviation Cultures. \nA call for papers and conference themes will be announced later this year\, so stay tuned. \nA Collaborative Effort\nThe 2026 event is being co-organized by Edward Soye (Canada) and James Kightly (Australia)\, with support from both CAHS and Aviation Cultures. The KF Centre for Excellence is honoured to host and help bring this meaningful collaboration to life. \nStay Connected\nFollow Aviation Cultures on Facebook\, LinkedIn\, and BlueSky\, or visit their website for updates. You can also reach out via their contact page with questions or to get involved. \nWe can’t wait to welcome aviation enthusiasts and experts from around the world to Kelowna in 2026!
URL:https://kfcentre.ca/event/cahs-national-convention-aviation-cultures-conference-coming-to-kelowna-in-2026/
CATEGORIES:Events
ATTACH;FMTTYPE=image/jpeg:https://kfcentre.ca/wp-content/uploads/2025/07/thumbnail_ACC-Aust-Canada-full-size-1-scaled.jpg
END:VEVENT
END:VCALENDAR